BEGIN:VCALENDAR
VERSION:2.0
PRODID:-//eventon.com NONSGML v1.0//EN
CALSCALE:GREGORIAN
METHOD:PUBLISH
BEGIN:VEVENT
UID:69e5ea6bc9ec5
DTSTAMP:20260420T085715Z
DTSTART:20251003T170000Z
DTEND:20251003T193000Z
LOCATION:First National Bank of NWA 3553 North Steele Blvd.
SUMMARY:Locale
DESCRIPTION:Locale\nhttps://www.childrenssafetycenter.org/events/locale/
URL:https://www.childrenssafetycenter.org/events/locale/
END:VEVENT
END:VCALENDAR