BEGIN:VCALENDAR
VERSION:2.0
PRODID:-//eventon.com NONSGML v1.0//EN
CALSCALE:GREGORIAN
METHOD:PUBLISH
BEGIN:VEVENT
UID:69eaf14795bf0
DTSTAMP:20260424T042751Z
DTSTART:20240401T190000Z
DTEND:20240402T100000Z
LOCATION:
SUMMARY:Pinwheels for Prevention
DESCRIPTION:Join the fight against child abuse by participating in Pinwheel
 s for Prevention. This event is held annually\,  all across the nation duri
 ng the month of April\,  which is Child Abuse Awareness and Prevention Mont
 h. This nationally recognized event acknowledges the importance of communit
 ies working together to prevent child physical and[..]\nhttps://www.childre
 nssafetycenter.org/events/pinwheels-for-prevention-2/
URL:https://www.childrenssafetycenter.org/events/pinwheels-for-prevention-2/
END:VEVENT
END:VCALENDAR